BEGIN:VCALENDAR
VERSION:2.0
PRODID:-//Universidade Castelo Branco - ECPv6.15.20//NONSGML v1.0//EN
CALSCALE:GREGORIAN
METHOD:PUBLISH
X-WR-CALNAME:Universidade Castelo Branco
X-ORIGINAL-URL:https://castelobranco.br
X-WR-CALDESC:Eventos para Universidade Castelo Branco
REFRESH-INTERVAL;VALUE=DURATION:PT1H
X-Robots-Tag:noindex
X-PUBLISHED-TTL:PT1H
BEGIN:VTIMEZONE
TZID:America/Sao_Paulo
BEGIN:STANDARD
TZOFFSETFROM:-0300
TZOFFSETTO:-0300
TZNAME:-03
DTSTART:20240101T000000
END:STANDARD
END:VTIMEZONE
BEGIN:VEVENT
DTSTART;TZID=America/Sao_Paulo:20251009T170000
DTEND;TZID=America/Sao_Paulo:20251009T183000
DTSTAMP:20260420T080653
CREATED:20251006T221803Z
LAST-MODIFIED:20251006T223111Z
UID:41485-1760029200-1760034600@castelobranco.br
SUMMARY:Ação sobre a campanha Outubro Rosa
DESCRIPTION:Ação sobre a campanha Outubro Rosa \n  \nDia 09/10/2025\nHorário: Das 17h às 18h30\nLocal: Corredor central da UCB (Entre os blocos A e B) \n  \nSugestão:\nTodos de rosa na Castelo. \n  \nParticipações:\n  \nLADIR – Liga Acadêmica de Direito\nInformativo com os direitos da mulher com câncer de mama. \nLASCRIM – Liga Acadêmica de Saúde da Criança e da Mulher\nExame de Toque \nLACLIP – Liga Acadêmica de Clínica\, Cirurgia e Patologia de Medicina Veterinária\nExame de mama animal \nLAPSI – Liga Acadêmica de Psicologia\nAtividade sobre Autoestima\, Rede de apoio e Sexualidade \n  \nOrganização: Castelo de Ideias
URL:https://castelobranco.br/evento/acao-sobre-a-campanha-outubro-rosa/
LOCATION:Campus Realengo\, Av. de Santa Cruz\, 1631 - Realengo\, Rio de Janeiro\, RJ\, 21710-255\, Brazil
END:VEVENT
END:VCALENDAR