BEGIN:VCALENDAR
VERSION:2.0
PRODID:-//Universidade Castelo Branco - ECPv6.15.20//NONSGML v1.0//EN
CALSCALE:GREGORIAN
METHOD:PUBLISH
X-ORIGINAL-URL:https://castelobranco.br
X-WR-CALDESC:Eventos para Universidade Castelo Branco
REFRESH-INTERVAL;VALUE=DURATION:PT1H
X-Robots-Tag:noindex
X-PUBLISHED-TTL:PT1H
BEGIN:VTIMEZONE
TZID:America/Sao_Paulo
BEGIN:STANDARD
TZOFFSETFROM:-0300
TZOFFSETTO:-0300
TZNAME:-03
DTSTART:20240101T000000
END:STANDARD
END:VTIMEZONE
BEGIN:VEVENT
DTSTART;TZID=America/Sao_Paulo:20250812T190000
DTEND;TZID=America/Sao_Paulo:20250812T210000
DTSTAMP:20260420T040019
CREATED:20250801T012922Z
LAST-MODIFIED:20250805T170038Z
UID:39560-1755025200-1755032400@castelobranco.br
SUMMARY:Aula Magna de Nutrição - 2025.2
DESCRIPTION:Aula Magna de Nutrição – 2025.2 \n  \nDia 20/08/2025\nHorário: Das 19h às 21h\nLocal: Sala Nair Mulls – Bloco A \n  \nTema: Do Ingresso à Atuação: Caminhos no Curso de Nutrição da UCB \n  \nPalestrante: Juliane Felix Coronho  \n\nNutricionista\nPós graduada em Prescrição de fitoterápicos e suplementação clínica e esportiva
URL:https://castelobranco.br/evento/aula-magna-de-nutricao-2025-2/
LOCATION:Campus Realengo\, Av. de Santa Cruz\, 1631 - Realengo\, Rio de Janeiro\, RJ\, 21710-255\, Brazil
ATTACH;FMTTYPE=image/png:https://castelobranco.br/wp-content/uploads/2025/07/11.png
ORGANIZER;CN="Curso de Nutri%C3%A7%C3%A3o":MAILTO:brenda.akemi@castelobranco.br
END:VEVENT
BEGIN:VEVENT
DTSTART;TZID=America/Sao_Paulo:20250825T180000
DTEND;TZID=America/Sao_Paulo:20250828T220000
DTSTAMP:20260420T040019
CREATED:20250618T183824Z
LAST-MODIFIED:20250819T171839Z
UID:38810-1756144800-1756418400@castelobranco.br
SUMMARY:XIX semana do curso de nutrição UCB
DESCRIPTION:XIX semana do curso de nutrição UCB\n\nDias: De 25 a 28 de agosto\nHorário: Das 18h às 22h\nLocal:\nDia 25 e 26 – Sala Nair Mulls – Bloco A\nDia 27 e 28 – Sala Multiuso – Bloco B\n.\n.\nDia 25 de agosto\nDebate sobre Aleitamento Materno\n– Presença da LAMFH – Liga Acadêmica de Morfofisiologia Humana
URL:https://castelobranco.br/evento/xix-semana-do-curso-de-nutricao-ucb/
LOCATION:Campus Realengo\, Av. de Santa Cruz\, 1631 - Realengo\, Rio de Janeiro\, RJ\, 21710-255\, Brazil
ATTACH;FMTTYPE=image/png:https://castelobranco.br/wp-content/uploads/2025/07/Banner-para-a-TV-da-UCB-Corredor-83.png
ORGANIZER;CN="Curso de Nutri%C3%A7%C3%A3o":MAILTO:brenda.akemi@castelobranco.br
END:VEVENT
END:VCALENDAR