BEGIN:VCALENDAR
VERSION:2.0
PRODID:-//Universidade Castelo Branco - ECPv6.15.20//NONSGML v1.0//EN
CALSCALE:GREGORIAN
METHOD:PUBLISH
X-WR-CALNAME:Universidade Castelo Branco
X-ORIGINAL-URL:https://castelobranco.br
X-WR-CALDESC:Eventos para Universidade Castelo Branco
REFRESH-INTERVAL;VALUE=DURATION:PT1H
X-Robots-Tag:noindex
X-PUBLISHED-TTL:PT1H
BEGIN:VTIMEZONE
TZID:America/Sao_Paulo
BEGIN:STANDARD
TZOFFSETFROM:-0300
TZOFFSETTO:-0300
TZNAME:-03
DTSTART:20240101T000000
END:STANDARD
END:VTIMEZONE
BEGIN:VEVENT
DTSTART;TZID=America/Sao_Paulo:20250213T180000
DTEND;TZID=America/Sao_Paulo:20250219T220000
DTSTAMP:20260420T140823
CREATED:20250219T005820Z
LAST-MODIFIED:20250219T012132Z
UID:34092-1739469600-1740002400@castelobranco.br
SUMMARY:Semana de Acolhimento de Nutrição 2025.1
DESCRIPTION:Semana de Acolhimento de Nutrição 2025.1 \n  \nDe 13/02 a 19/02/25\nTurno noite \n  \nProgramação\nDia 13/02 – Aula Institucional sobre a UCB\nDia 17/02 – Aula Magna com a coordenação do curso\nDia 18/02 – Apresentação das Ligas Acadêmicas do Curso – Lannefro e Lanes\nDia 19/02 – Palestra sobre Nutrição e Marketing Pessoal com o Prof. Paulo Ribeiro \n  \nFotos\nDia 13/02 – Institucional – 2025.1 – Semana de Acolhimento\nDia 18/02 – 18-02 – Semana de Acolhimento – Apresentação das Ligas \n 
URL:https://castelobranco.br/evento/semana-de-acolhimento-de-nutricao-2025-1/
LOCATION:Campus Realengo\, Av. de Santa Cruz\, 1631 - Realengo\, Rio de Janeiro\, RJ\, 21710-255\, Brazil
ORGANIZER;CN="Curso de Nutri%C3%A7%C3%A3o":MAILTO:brenda.akemi@castelobranco.br
END:VEVENT
BEGIN:VEVENT
DTSTART;VALUE=DATE:20250226
DTEND;VALUE=DATE:20250227
DTSTAMP:20260420T140823
CREATED:20250227T152807Z
LAST-MODIFIED:20250227T175528Z
UID:34382-1740528000-1740614399@castelobranco.br
SUMMARY:Palestra da Liga Acadêmica de Nutrição Esportiva para os atletas do Pentatlo Moderno
DESCRIPTION:Palestra da Liga Acadêmica de Nutrição Esportiva para os atletas do Pentatlo Moderno \n  \nNo dia 26/02/2025\, membros da Liga Acadêmica de Nutrição Esportiva realizaram uma palestra voltada para os atletas do Pentatlo Moderno\, abrangendo tanto os participantes da pré-equipe e equipe B\, quanto as crianças da iniciação. \nO nosso objetivo principal foi conscientizar esses atletas sobre a importância da adesão ao plano alimentar que foi estrategicamente adequado para melhorar o desempenho e a performance nas modalidades\, e também os malefícios do consumo excessivo de açúcares refinados e processados com demonstração da quantidade exata que contém as porções em determinados alimentos. \nAo final da palestra\, ensinamos às crianças junto com a nutricionista deles uma receita de panqueca de banana que é rica em nutrientes essenciais para o desenvolvimento e evolução delas no esporte. \n  \n         \n  \n  \n 
URL:https://castelobranco.br/evento/palestra-da-liga-academica-de-nutricao-esportiva-para-os-atletas-do-pentatlo-moderno/
LOCATION:RJ
ATTACH;FMTTYPE=image/jpeg:https://castelobranco.br/wp-content/uploads/2025/02/WhatsApp-Image-2025-02-27-at-12.14.42-2.jpeg
END:VEVENT
END:VCALENDAR