BEGIN:VCALENDAR
VERSION:2.0
PRODID:-//Universidade Castelo Branco - ECPv6.15.20//NONSGML v1.0//EN
CALSCALE:GREGORIAN
METHOD:PUBLISH
X-ORIGINAL-URL:https://castelobranco.br
X-WR-CALDESC:Eventos para Universidade Castelo Branco
REFRESH-INTERVAL;VALUE=DURATION:PT1H
X-Robots-Tag:noindex
X-PUBLISHED-TTL:PT1H
BEGIN:VTIMEZONE
TZID:America/Sao_Paulo
BEGIN:STANDARD
TZOFFSETFROM:-0300
TZOFFSETTO:-0300
TZNAME:-03
DTSTART:20230101T000000
END:STANDARD
END:VTIMEZONE
BEGIN:VEVENT
DTSTART;TZID=America/Sao_Paulo:20240522T190000
DTEND;TZID=America/Sao_Paulo:20240522T210000
DTSTAMP:20260421T061326
CREATED:20240513T192432Z
LAST-MODIFIED:20240521T215145Z
UID:18271-1716404400-1716411600@castelobranco.br
SUMMARY:MAIO ROXO - Palestra: Doenças Inflamatórias Intestinais - Qual o papel do nutricionista?
DESCRIPTION:MAIO ROXO – Palestra: Doenças Inflamatórias Intestinais – Qual o papel do nutricionista? \nData: 22/05/24 \nHorário: 19h \nLocal: Sala Nair Mulls \nCom: Profª Roberta Tavares
URL:https://castelobranco.br/evento/maio-roxo-palestra-doencas-inflamatorias-intestinais-qual-o-papel-do-nutricionista/
LOCATION:Campus Realengo\, Av. de Santa Cruz\, 1631 - Realengo\, Rio de Janeiro\, RJ\, 21710-255\, Brazil
ATTACH;FMTTYPE=image/png:https://castelobranco.br/wp-content/uploads/2024/05/Noticia-post-instagram-1080-x-1080-80.png
ORGANIZER;CN="Curso de Nutri%C3%A7%C3%A3o":MAILTO:brenda.akemi@castelobranco.br
END:VEVENT
END:VCALENDAR