BEGIN:VCALENDAR
VERSION:2.0
PRODID:-//Universidade Castelo Branco - ECPv6.15.20//NONSGML v1.0//EN
CALSCALE:GREGORIAN
METHOD:PUBLISH
X-ORIGINAL-URL:https://castelobranco.br
X-WR-CALDESC:Eventos para Universidade Castelo Branco
REFRESH-INTERVAL;VALUE=DURATION:PT1H
X-Robots-Tag:noindex
X-PUBLISHED-TTL:PT1H
BEGIN:VTIMEZONE
TZID:America/Sao_Paulo
BEGIN:STANDARD
TZOFFSETFROM:-0300
TZOFFSETTO:-0300
TZNAME:-03
DTSTART:20240101T000000
END:STANDARD
END:VTIMEZONE
BEGIN:VEVENT
DTSTART;TZID=America/Sao_Paulo:20250819T090000
DTEND;TZID=America/Sao_Paulo:20250819T110000
DTSTAMP:20260420T061222
CREATED:20250801T012701Z
LAST-MODIFIED:20250808T142043Z
UID:39558-1755594000-1755601200@castelobranco.br
SUMMARY:Aula Magna de Medicina Veterinária - Penha - 2025.2
DESCRIPTION:Aula Magna de Medicina Veterinária – Penha – 2025.2 \n  \nDia 19/08/2025\nHorário: Das 9h às 11h\nLocal: Campus Penha \n  \nTema:\nO Veterinário do Século XXI: Multidisciplinaridade e Impacto Global \nPalestrante:\nProfessora Cristina Pliego  \nCurrículo:\nGraduação em Medicina Veterinária pela Universidade Federal Fluminense (2004)\, Mestrado em Medicina Veterinária pela Universidade Federal Fluminense (2007) e Doutorado em Clínica e Reprodução Animal – UFF (2012). Trabalhou no setor de cirurgia e oncologia veterinária do HUVET-UFF de fevereiro de 2007 a março de 2012. Foi Professora substituta da Disciplina de Patologia e Clínica Cirúrgica UFF (2007-2009). Tem experiência na área de Medicina Veterinária\, com ênfase em Clínica Médica\, Clínica-cirúrgica\, Cirurgia e Oncologia. Atua na área de clínica médica\, oncologia clínica-cirúrgica e cirurgia desde 2004. Foi professora da disciplina de Patologia Cirúrgica de Grandes Vertebrados e Fisiologia Animal – curso de Medicina Veterinária – ESTÁCIO\, Coordenadora da Comissão de Ética no Uso de Animais – ESTÁCIO e membro do colegiado do curso de Medicina Veterinária da Universidade Estácio de Sá de Niterói. Atualmente é professora das disciplina de anestesiologia e cirurgia veterinária de grandes e pequenos animais e Estágio Supervisionado UNIVERSO e Coordenadora e professora no curso de Medicina Veterinária UCB Campus Penha.
URL:https://castelobranco.br/evento/aula-magna-de-medicina-veterinaria-penha-2025-2/
LOCATION:Campus Penha\, Av. Brasil\, 9727 – Penha\, Rio de Janeiro\, RJ\, 2573-3940
ATTACH;FMTTYPE=image/png:https://castelobranco.br/wp-content/uploads/2025/07/Banner-para-a-TV-da-UCB-Corredor-85.png
ORGANIZER;CN="Curso de Medicina Veterin%C3%A1ria - Penha":MAILTO:atendimentopenha@castelobranco.br
END:VEVENT
END:VCALENDAR